BEGIN:VCALENDAR
VERSION:2.0
PRODID:-//South Sikh Center - ECPv6.15.20//NONSGML v1.0//EN
CALSCALE:GREGORIAN
METHOD:PUBLISH
X-WR-CALNAME:South Sikh Center
X-ORIGINAL-URL:https://southsikhcentr.ca
X-WR-CALDESC:Events for South Sikh Center
REFRESH-INTERVAL;VALUE=DURATION:PT1H
X-Robots-Tag:noindex
X-PUBLISHED-TTL:PT1H
BEGIN:VTIMEZONE
TZID:UTC
BEGIN:STANDARD
TZOFFSETFROM:+0000
TZOFFSETTO:+0000
TZNAME:UTC
DTSTART:20180101T000000
END:STANDARD
END:VTIMEZONE
BEGIN:VEVENT
DTSTART;TZID=UTC:20200221T100000
DTEND;TZID=UTC:20200223T170000
DTSTAMP:20260423T094151
CREATED:20191230T014314Z
LAST-MODIFIED:20191230T014314Z
UID:2079-1582279200-1582477200@southsikhcentr.ca
SUMMARY:Akhand Path and Langar Sewa S Jaiinder Sandhu
DESCRIPTION:
URL:https://southsikhcentr.ca/event/akhand-path-and-langar-sewa-s-jaiinder-sandhu/
LOCATION:Winnipeg South Sikh Center\, 1248 Wilkes Ave\, Winnipeg\, MB R3S 0A1\, Canada\, winnipeg\, Manitoba\, R3S 0A1\, Canada
END:VEVENT
BEGIN:VEVENT
DTSTART;VALUE=DATE:20200216
DTEND;VALUE=DATE:20200217
DTSTAMP:20260423T094151
CREATED:20191230T014046Z
LAST-MODIFIED:20191230T014046Z
UID:2077-1581811200-1581811200@southsikhcentr.ca
SUMMARY:Langar Sewa  by By Bhai Sukhdev singh
DESCRIPTION:Langar Sewa By Bhai Sukhdev singh
URL:https://southsikhcentr.ca/event/langar-sewa-by-by-bhai-sukhdev-singh/
LOCATION:Winnipeg South Sikh Center\, 1248 Wilkes Ave\, Winnipeg\, MB R3S 0A1\, Canada\, winnipeg\, Manitoba\, R3S 0A1\, Canada
END:VEVENT
BEGIN:VEVENT
DTSTART;TZID=UTC:20200112T080000
DTEND;TZID=UTC:20200112T170000
DTSTAMP:20260423T094151
CREATED:20191128T035837Z
LAST-MODIFIED:20191128T035837Z
UID:2020-1578816000-1578848400@southsikhcentr.ca
SUMMARY:Langar Sewa Available
DESCRIPTION:Lanagr Sewa available on this Sunday \,Anyone  interested please contact Guru Ghar office .. If You need help in Langar Sewa Please Contact Lanagr Committee
URL:https://southsikhcentr.ca/event/langar-sewa-available-2/
LOCATION:Manitoba
CATEGORIES:Calendar
END:VEVENT
BEGIN:VEVENT
DTSTART;TZID=UTC:20200103T090000
DTEND;TZID=UTC:20200105T100000
DTSTAMP:20260423T094151
CREATED:20191226T040144Z
LAST-MODIFIED:20191226T040144Z
UID:2063-1578042000-1578218400@southsikhcentr.ca
SUMMARY:Guru Gobind Singh Jee Parkash Utsav 5Th Jan 2020
DESCRIPTION:Guru Gobind Singh jee Parkash Utsav 5th Jan2020 Akhand Path Sahib Starts at 9:Am 3rd Jan 2020 and Smapati   on 5th Jan 2020  Akhand Path Sewa By Bhai  Baljeet Singh Chnna  and Lanagr Sewa on Sunday By Manjinder Singh Sandhu and Manjit Kaur Sandhu
URL:https://southsikhcentr.ca/event/guru-gobind-singh-jee-parkash-utsav-5th-jan-2020/
LOCATION:Winnipeg South Sikh Center\, 1248 Wilkes Ave\, Winnipeg\, MB R3S 0A1\, Canada\, winnipeg\, Manitoba\, R3S 0A1\, Canada
CATEGORIES:Calendar,Langar
END:VEVENT
BEGIN:VEVENT
DTSTART;TZID=UTC:20200101T180000
DTEND;TZID=UTC:20200101T200000
DTSTAMP:20260423T094151
CREATED:20191229T054751Z
LAST-MODIFIED:20191229T054751Z
UID:2069-1577901600-1577908800@southsikhcentr.ca
SUMMARY:New Year Program
DESCRIPTION:On 1st Jan  A Special Kirtan Darbar Will be held at Gurudwara Sahib in evening  stating at 6:00PM to 8 PM
URL:https://southsikhcentr.ca/event/new-year-program/
LOCATION:Winnipeg South Sikh Center\, 1248 Wilkes Ave\, Winnipeg\, MB R3S 0A1\, Canada\, winnipeg\, Manitoba\, R3S 0A1\, Canada
END:VEVENT
BEGIN:VEVENT
DTSTART;TZID=UTC:20191231T080000
DTEND;TZID=UTC:20191231T170000
DTSTAMP:20260423T094151
CREATED:20191227T033724Z
LAST-MODIFIED:20191227T033724Z
UID:2067-1577779200-1577811600@southsikhcentr.ca
SUMMARY:New Year  Eve Kirtan Darbar
DESCRIPTION:As usual at New year Eve Sikh Sangat Will be reciting Sukhmani Sahib Path  at !0:00Pm  then at 11:30  Pm Kirtan Will be By Hajoori Ragi Bhai Satpal Singh and Bhai Sukhdev Singh on 31St December 2019
URL:https://southsikhcentr.ca/event/new-year-eve-kirtan-darbar/
LOCATION:Winnipeg South Sikh Center\, 1248 Wilkes Ave\, Winnipeg\, MB R3S 0A1\, Canada\, winnipeg\, Manitoba\, R3S 0A1\, Canada
END:VEVENT
BEGIN:VEVENT
DTSTART;TZID=UTC:20191222T080000
DTEND;TZID=UTC:20191222T170000
DTSTAMP:20260423T094151
CREATED:20191207T213013Z
LAST-MODIFIED:20191207T213013Z
UID:2057-1577001600-1577034000@southsikhcentr.ca
SUMMARY:Langar Sewa By Raminder Pal Singh
DESCRIPTION:This Sunday Guru sahib Blessed Lanagar Sewa to Raminder Pal Singh  BreakFast from 10 Am to 11:30 and Langar From !1:30 Am to 3:00PM  .All Are invited to Join Langar Sewa and get Gurus Blessings
URL:https://southsikhcentr.ca/event/langar-sewa-by-raminder-pal-singh/
LOCATION:Winnipeg South Sikh Center\, 1248 Wilkes Ave\, Winnipeg\, MB R3S 0A1\, Canada\, winnipeg\, Manitoba\, R3S 0A1\, Canada
CATEGORIES:Calendar,Langar
ORGANIZER;CN="Winnipeg South Sikh Centre":MAILTO:info&#064;southsikhcentr.ca
END:VEVENT
BEGIN:VEVENT
DTSTART;VALUE=DATE:20191215
DTEND;VALUE=DATE:20191216
DTSTAMP:20260423T094151
CREATED:20191126T024907Z
LAST-MODIFIED:20191126T024907Z
UID:1998-1576368000-1576454399@southsikhcentr.ca
SUMMARY:LangarSewa By Bibi Nishu Gumber and S Arvinderpal Singh Matharoo
DESCRIPTION:Langar Sewa  By Bibi Nishu Gumber and ArvinderPal Singh Matharoo\nTea and Break Fast at 10Am\nLangar Starts at 11:30 Am to 3:00m\nAll Are Invited to Join and Get Blessings of the Guru
URL:https://southsikhcentr.ca/event/langarsewa-by-bibi-nishu-gumber-and-s-arvinderpal-singh-matharoo/
LOCATION:Winnipeg South Sikh Center\, 1248 Wilkes Ave\, Winnipeg\, MB R3S 0A1\, Canada\, winnipeg\, Manitoba\, R3S 0A1\, Canada
CATEGORIES:Calendar
END:VEVENT
BEGIN:VEVENT
DTSTART;TZID=UTC:20191208T080000
DTEND;TZID=UTC:20191208T170000
DTSTAMP:20260423T094151
CREATED:20191126T031306Z
LAST-MODIFIED:20191126T031306Z
UID:2004-1575792000-1575824400@southsikhcentr.ca
SUMMARY:Lanagr Sewa by S Kulwant Singh Bath
DESCRIPTION:Langar Sewa Blessed to S. Kulwant Singh Bath\nBreak Fast at 10:00 Am  Langar at 11:00 AM to 3:00 PM\nAll Are requested to attend Lanagr Sewa and get Blessings of Guru
URL:https://southsikhcentr.ca/event/lanagr-sewa-by-s-kulwant-singh-bath/
LOCATION:Winnipeg South Sikh Center\, 1248 Wilkes Ave\, Winnipeg\, MB R3S 0A1\, Canada\, winnipeg\, Manitoba\, R3S 0A1\, Canada
CATEGORIES:Calendar
END:VEVENT
BEGIN:VEVENT
DTSTART;TZID=UTC:20191201T080000
DTEND;TZID=UTC:20191201T170000
DTSTAMP:20260423T094151
CREATED:20191127T024520Z
LAST-MODIFIED:20191127T024715Z
UID:2015-1575187200-1575219600@southsikhcentr.ca
SUMMARY:Langar Sewa Available
DESCRIPTION:Langar Sewa   is available for this Sunday .Any Family or Group wants to take this Sewa Can contact Giyani Satpal Singh jee .If you just wanted to give groceries No worries Just let Giyani Know as Members  of Langar Committee can perform Lanagr sewa .
URL:https://southsikhcentr.ca/event/langar-sewa-available/
LOCATION:Manitoba
END:VEVENT
BEGIN:VEVENT
DTSTART;TZID=UTC:20191127T080000
DTEND;TZID=UTC:20191127T170000
DTSTAMP:20260423T094151
CREATED:20191111T055827Z
LAST-MODIFIED:20191111T055827Z
UID:1578-1574841600-1574874000@southsikhcentr.ca
SUMMARY:langar2
DESCRIPTION:langar event
URL:https://southsikhcentr.ca/event/langar2/
LOCATION:dummy\, dummy\, dummy\, dummy\, 1234\, Algeria
CATEGORIES:Langar
ORGANIZER;CN="dummy":MAILTO:dummy@yopmail.com
END:VEVENT
BEGIN:VEVENT
DTSTART;TZID=UTC:20191122T080000
DTEND;TZID=UTC:20191122T170000
DTSTAMP:20260423T094151
CREATED:20191122T122546Z
LAST-MODIFIED:20191122T122546Z
UID:1944-1574409600-1574442000@southsikhcentr.ca
SUMMARY:New Event
DESCRIPTION:New Event to add in the calendar.
URL:https://southsikhcentr.ca/event/new-event/
LOCATION:Winnipeg South Sikh Center\, 1248 Wilkes Ave\, Winnipeg\, MB R3S 0A1\, Canada\, winnipeg\, Manitoba\, R3S 0A1\, Canada
ORGANIZER;CN="Winnipeg South Sikh Centre":MAILTO:info&#064;southsikhcentr.ca
END:VEVENT
BEGIN:VEVENT
DTSTART;TZID=UTC:20191120T080000
DTEND;TZID=UTC:20191120T170000
DTSTAMP:20260423T094151
CREATED:20191111T062506Z
LAST-MODIFIED:20191111T062506Z
UID:1580-1574236800-1574269200@southsikhcentr.ca
SUMMARY:langar1.5
DESCRIPTION:langar
URL:https://southsikhcentr.ca/event/langar1-5/
LOCATION:dummy\, dummy\, dummy\, dummy\, 1234\, Algeria
CATEGORIES:Langar
ORGANIZER;CN="dummy":MAILTO:dummy@yopmail.com
END:VEVENT
BEGIN:VEVENT
DTSTART;TZID=UTC:20191120T080000
DTEND;TZID=UTC:20191120T170000
DTSTAMP:20260423T094151
CREATED:20191111T055709Z
LAST-MODIFIED:20191111T055709Z
UID:1576-1574236800-1574269200@southsikhcentr.ca
SUMMARY:event2
DESCRIPTION:calendar event
URL:https://southsikhcentr.ca/event/event2/
LOCATION:dummy\, dummy\, dummy\, dummy\, 1234\, Algeria
CATEGORIES:Calendar
ORGANIZER;CN="dummy":MAILTO:dummy@yopmail.com
END:VEVENT
BEGIN:VEVENT
DTSTART;TZID=UTC:20191113T080000
DTEND;TZID=UTC:20191113T170000
DTSTAMP:20260423T094151
CREATED:20191107T043116Z
LAST-MODIFIED:20191107T043116Z
UID:1301-1573632000-1573664400@southsikhcentr.ca
SUMMARY:Langar Event
DESCRIPTION:langar
URL:https://southsikhcentr.ca/event/langar-event/
LOCATION:dummy\, dummy\, dummy\, dummy\, 1234\, Algeria
CATEGORIES:Langar
ORGANIZER;CN="dummy":MAILTO:dummy@yopmail.com
END:VEVENT
END:VCALENDAR